BEGIN:VCALENDAR
VERSION:2.0
PRODID:-//Romance Junkies - ECPv6.0.12//NONSGML v1.0//EN
CALSCALE:GREGORIAN
METHOD:PUBLISH
X-WR-CALNAME:Romance Junkies
X-ORIGINAL-URL:https://www.romancejunkies.com
X-WR-CALDESC:Events for Romance Junkies
REFRESH-INTERVAL;VALUE=DURATION:PT1H
X-Robots-Tag:noindex
X-PUBLISHED-TTL:PT1H
BEGIN:VTIMEZONE
TZID:America/Denver
BEGIN:DAYLIGHT
TZOFFSETFROM:-0700
TZOFFSETTO:-0600
TZNAME:MDT
DTSTART:20220313T090000
END:DAYLIGHT
BEGIN:STANDARD
TZOFFSETFROM:-0600
TZOFFSETTO:-0700
TZNAME:MST
DTSTART:20221106T080000
END:STANDARD
END:VTIMEZONE
BEGIN:VEVENT
DTSTART;VALUE=DATE:20220410
DTEND;VALUE=DATE:20220411
DTSTAMP:20260424T151707
CREATED:20220410T201825Z
LAST-MODIFIED:20220410T201825Z
UID:511813-1649548800-1649635199@www.romancejunkies.com
SUMMARY:Killer Instincts
DESCRIPTION:Tawna Fenske
URL:https://www.romancejunkies.com/event/killer-instincts/
END:VEVENT
BEGIN:VEVENT
DTSTART;VALUE=DATE:20220412
DTEND;VALUE=DATE:20220413
DTSTAMP:20260424T151707
CREATED:20220410T215904Z
LAST-MODIFIED:20220410T220216Z
UID:512411-1649721600-1649807999@www.romancejunkies.com
SUMMARY:Lauren Helms
DESCRIPTION:
URL:https://www.romancejunkies.com/event/lauren-helms-2/
END:VEVENT
BEGIN:VEVENT
DTSTART;VALUE=DATE:20220414
DTEND;VALUE=DATE:20220415
DTSTAMP:20260424T151707
CREATED:20220410T220814Z
LAST-MODIFIED:20220410T220814Z
UID:512434-1649894400-1649980799@www.romancejunkies.com
SUMMARY:L. A. Day
DESCRIPTION:Mace’s Wraith: Enemy Territory
URL:https://www.romancejunkies.com/event/l-a-day/
END:VEVENT
BEGIN:VEVENT
DTSTART;VALUE=DATE:20220415
DTEND;VALUE=DATE:20220416
DTSTAMP:20260424T151707
CREATED:20220410T220932Z
LAST-MODIFIED:20220410T220932Z
UID:512439-1649980800-1650067199@www.romancejunkies.com
SUMMARY:Enemy Territory Collection
DESCRIPTION:
URL:https://www.romancejunkies.com/event/enemy-territory-collection/
END:VEVENT
BEGIN:VEVENT
DTSTART;VALUE=DATE:20220420
DTEND;VALUE=DATE:20220421
DTSTAMP:20260424T151707
CREATED:20220410T220350Z
LAST-MODIFIED:20220411T224018Z
UID:512416-1650412800-1650499199@www.romancejunkies.com
SUMMARY:Kelli A. Wilkins
DESCRIPTION:
URL:https://www.romancejunkies.com/event/kelli-a-wilkins-27/
END:VEVENT
BEGIN:VEVENT
DTSTART;VALUE=DATE:20220421
DTEND;VALUE=DATE:20220422
DTSTAMP:20260424T151707
CREATED:20220421T184958Z
LAST-MODIFIED:20220421T185025Z
UID:518249-1650499200-1650585599@www.romancejunkies.com
SUMMARY:Peter E. Fenton
DESCRIPTION:The Woodcarver’s Model
URL:https://www.romancejunkies.com/event/peter-e-fenton/
END:VEVENT
BEGIN:VEVENT
DTSTART;VALUE=DATE:20220425
DTEND;VALUE=DATE:20220426
DTSTAMP:20260424T151707
CREATED:20220421T185206Z
LAST-MODIFIED:20220425T030023Z
UID:518260-1650844800-1650931199@www.romancejunkies.com
SUMMARY:Jayce Carter
DESCRIPTION:The Resurrected Queen book 2
URL:https://www.romancejunkies.com/event/jayce-carter-3/
END:VEVENT
BEGIN:VEVENT
DTSTART;VALUE=DATE:20220426
DTEND;VALUE=DATE:20220427
DTSTAMP:20260424T151707
CREATED:20220421T185248Z
LAST-MODIFIED:20220421T185248Z
UID:518264-1650931200-1651017599@www.romancejunkies.com
SUMMARY:M. C. Roth
DESCRIPTION:Karma’s Kiss
URL:https://www.romancejunkies.com/event/m-c-roth/
END:VEVENT
BEGIN:VEVENT
DTSTART;VALUE=DATE:20220427
DTEND;VALUE=DATE:20220428
DTSTAMP:20260424T151707
CREATED:20220421T185342Z
LAST-MODIFIED:20220421T185342Z
UID:518267-1651017600-1651103999@www.romancejunkies.com
SUMMARY:Landra Graf
DESCRIPTION:Snap Me Up
URL:https://www.romancejunkies.com/event/landra-graf/
END:VEVENT
BEGIN:VEVENT
DTSTART;VALUE=DATE:20220429
DTEND;VALUE=DATE:20220430
DTSTAMP:20260424T151707
CREATED:20220421T185429Z
LAST-MODIFIED:20220421T185429Z
UID:518271-1651190400-1651276799@www.romancejunkies.com
SUMMARY:Katy Hunter
DESCRIPTION:(Not) Normal
URL:https://www.romancejunkies.com/event/katy-hunter/
END:VEVENT
END:VCALENDAR