BEGIN:VCALENDAR
VERSION:2.0
PRODID:-//Romance Junkies - ECPv6.0.12//NONSGML v1.0//EN
CALSCALE:GREGORIAN
METHOD:PUBLISH
X-WR-CALNAME:Romance Junkies
X-ORIGINAL-URL:https://www.romancejunkies.com
X-WR-CALDESC:Events for Romance Junkies
REFRESH-INTERVAL;VALUE=DURATION:PT1H
X-Robots-Tag:noindex
X-PUBLISHED-TTL:PT1H
BEGIN:VTIMEZONE
TZID:America/Denver
BEGIN:DAYLIGHT
TZOFFSETFROM:-0700
TZOFFSETTO:-0600
TZNAME:MDT
DTSTART:20220313T090000
END:DAYLIGHT
BEGIN:STANDARD
TZOFFSETFROM:-0600
TZOFFSETTO:-0700
TZNAME:MST
DTSTART:20221106T080000
END:STANDARD
END:VTIMEZONE
BEGIN:VEVENT
DTSTART;VALUE=DATE:20220309
DTEND;VALUE=DATE:20220310
DTSTAMP:20260424T163016
CREATED:20220222T001945Z
LAST-MODIFIED:20220308T204907Z
UID:502475-1646784000-1646870399@www.romancejunkies.com
SUMMARY:Between Bloode and Water
DESCRIPTION:Marie Harte
URL:https://www.romancejunkies.com/event/between-bloode-and-water/
END:VEVENT
BEGIN:VEVENT
DTSTART;VALUE=DATE:20220310
DTEND;VALUE=DATE:20220311
DTSTAMP:20260424T163016
CREATED:20220308T205013Z
LAST-MODIFIED:20220308T205013Z
UID:503346-1646870400-1646956799@www.romancejunkies.com
SUMMARY:Cold Blood
DESCRIPTION:Cold Blood by T. Strange
URL:https://www.romancejunkies.com/event/cold-blood/
END:VEVENT
BEGIN:VEVENT
DTSTART;VALUE=DATE:20220311
DTEND;VALUE=DATE:20220312
DTSTAMP:20260424T163016
CREATED:20220308T205123Z
LAST-MODIFIED:20220308T205123Z
UID:503350-1646956800-1647043199@www.romancejunkies.com
SUMMARY:Ryld's Shadows
DESCRIPTION:Bellora Quinn and Angel Martinez
URL:https://www.romancejunkies.com/event/rylds-shadows/
END:VEVENT
BEGIN:VEVENT
DTSTART;VALUE=DATE:20220314
DTEND;VALUE=DATE:20220315
DTSTAMP:20260424T163016
CREATED:20220308T205218Z
LAST-MODIFIED:20220308T205218Z
UID:503355-1647216000-1647302399@www.romancejunkies.com
SUMMARY:Wicked Trouble
DESCRIPTION:Angela Addams
URL:https://www.romancejunkies.com/event/wicked-trouble/
END:VEVENT
BEGIN:VEVENT
DTSTART;VALUE=DATE:20220316
DTEND;VALUE=DATE:20220317
DTSTAMP:20260424T163016
CREATED:20220308T203714Z
LAST-MODIFIED:20220316T074133Z
UID:503322-1647388800-1647475199@www.romancejunkies.com
SUMMARY:Kelli A. Wilkins
DESCRIPTION:
URL:https://www.romancejunkies.com/event/kelli-a-wilkins-25/
END:VEVENT
BEGIN:VEVENT
DTSTART;VALUE=DATE:20220317
DTEND;VALUE=DATE:20220318
DTSTAMP:20260424T163016
CREATED:20220316T080942Z
LAST-MODIFIED:20220316T080942Z
UID:504561-1647475200-1647561599@www.romancejunkies.com
SUMMARY:760 Miles
DESCRIPTION:
URL:https://www.romancejunkies.com/event/760-miles/
END:VEVENT
BEGIN:VEVENT
DTSTART;VALUE=DATE:20220318
DTEND;VALUE=DATE:20220319
DTSTAMP:20260424T163016
CREATED:20220222T001921Z
LAST-MODIFIED:20220222T001921Z
UID:502471-1647561600-1647647999@www.romancejunkies.com
SUMMARY:Harley Wylde
DESCRIPTION:
URL:https://www.romancejunkies.com/event/harley-wylde-8/
END:VEVENT
BEGIN:VEVENT
DTSTART;VALUE=DATE:20220319
DTEND;VALUE=DATE:20220320
DTSTAMP:20260424T163016
CREATED:20220316T081014Z
LAST-MODIFIED:20220316T081014Z
UID:504565-1647648000-1647734399@www.romancejunkies.com
SUMMARY:The Corpse Princess
DESCRIPTION:
URL:https://www.romancejunkies.com/event/the-corpse-princess/
END:VEVENT
BEGIN:VEVENT
DTSTART;VALUE=DATE:20220321
DTEND;VALUE=DATE:20220322
DTSTAMP:20260424T163016
CREATED:20220316T081044Z
LAST-MODIFIED:20220316T081044Z
UID:504569-1647820800-1647907199@www.romancejunkies.com
SUMMARY:The Heather and the Plaid
DESCRIPTION:
URL:https://www.romancejunkies.com/event/the-heather-and-the-plaid/
END:VEVENT
BEGIN:VEVENT
DTSTART;VALUE=DATE:20220325
DTEND;VALUE=DATE:20220326
DTSTAMP:20260424T163016
CREATED:20220308T203732Z
LAST-MODIFIED:20220325T035931Z
UID:503325-1648166400-1648252799@www.romancejunkies.com
SUMMARY:Kelli A. Wilkins
DESCRIPTION:
URL:https://www.romancejunkies.com/event/kelli-a-wilkins-26/
END:VEVENT
BEGIN:VEVENT
DTSTART;VALUE=DATE:20220329
DTEND;VALUE=DATE:20220330
DTSTAMP:20260424T163016
CREATED:20220222T002009Z
LAST-MODIFIED:20220222T002009Z
UID:502479-1648512000-1648598399@www.romancejunkies.com
SUMMARY:Turn Up the Heat
DESCRIPTION:Marie Harte
URL:https://www.romancejunkies.com/event/turn-up-the-heat/
END:VEVENT
BEGIN:VEVENT
DTSTART;VALUE=DATE:20220330
DTEND;VALUE=DATE:20220331
DTSTAMP:20260424T163016
CREATED:20220317T020755Z
LAST-MODIFIED:20220317T020755Z
UID:504671-1648598400-1648684799@www.romancejunkies.com
SUMMARY:Lauren Helms
DESCRIPTION:Unexpected Love Series by Lauren Helms
URL:https://www.romancejunkies.com/event/lauren-helms/
END:VEVENT
END:VCALENDAR