BEGIN:VCALENDAR
VERSION:2.0
PRODID:-//Romance Junkies - ECPv6.0.12//NONSGML v1.0//EN
CALSCALE:GREGORIAN
METHOD:PUBLISH
X-WR-CALNAME:Romance Junkies
X-ORIGINAL-URL:https://www.romancejunkies.com
X-WR-CALDESC:Events for Romance Junkies
REFRESH-INTERVAL;VALUE=DURATION:PT1H
X-Robots-Tag:noindex
X-PUBLISHED-TTL:PT1H
BEGIN:VTIMEZONE
TZID:America/Denver
BEGIN:DAYLIGHT
TZOFFSETFROM:-0700
TZOFFSETTO:-0600
TZNAME:MDT
DTSTART:20220313T090000
END:DAYLIGHT
BEGIN:STANDARD
TZOFFSETFROM:-0600
TZOFFSETTO:-0700
TZNAME:MST
DTSTART:20221106T080000
END:STANDARD
END:VTIMEZONE
BEGIN:VEVENT
DTSTART;VALUE=DATE:20220211
DTEND;VALUE=DATE:20220212
DTSTAMP:20260424T185253
CREATED:20211218T210431Z
LAST-MODIFIED:20211218T210431Z
UID:487905-1644537600-1644623999@www.romancejunkies.com
SUMMARY:Kelli A. Wilkins
DESCRIPTION:
URL:https://www.romancejunkies.com/event/kelli-a-wilkins-23/
END:VEVENT
BEGIN:VEVENT
DTSTART;VALUE=DATE:20220214
DTEND;VALUE=DATE:20220215
DTSTAMP:20260424T185253
CREATED:20211218T210812Z
LAST-MODIFIED:20211218T210812Z
UID:487913-1644796800-1644883199@www.romancejunkies.com
SUMMARY:Valentine's Day GIVEAWAY
DESCRIPTION:
URL:https://www.romancejunkies.com/event/valentines-day-giveaway-2/
END:VEVENT
BEGIN:VEVENT
DTSTART;VALUE=DATE:20220218
DTEND;VALUE=DATE:20220219
DTSTAMP:20260424T185253
CREATED:20220117T114345Z
LAST-MODIFIED:20220218T233752Z
UID:497882-1645142400-1645228799@www.romancejunkies.com
SUMMARY:Valentine's Giveaway Winner
DESCRIPTION:
URL:https://www.romancejunkies.com/event/harley-wylde-7/
END:VEVENT
BEGIN:VEVENT
DTSTART;VALUE=DATE:20220221
DTEND;VALUE=DATE:20220222
DTSTAMP:20260424T185253
CREATED:20220222T001725Z
LAST-MODIFIED:20220222T001725Z
UID:502467-1645401600-1645487999@www.romancejunkies.com
SUMMARY:Noja Lina
DESCRIPTION:Uncovered by Noja Lina
URL:https://www.romancejunkies.com/event/noja-lina/
END:VEVENT
BEGIN:VEVENT
DTSTART;VALUE=DATE:20220223
DTEND;VALUE=DATE:20220224
DTSTAMP:20260424T185253
CREATED:20220222T002117Z
LAST-MODIFIED:20220222T002117Z
UID:502483-1645574400-1645660799@www.romancejunkies.com
SUMMARY:First You Dream
DESCRIPTION:Aliyah Burke
URL:https://www.romancejunkies.com/event/first-you-dream/
END:VEVENT
BEGIN:VEVENT
DTSTART;VALUE=DATE:20220224
DTEND;VALUE=DATE:20220225
DTSTAMP:20260424T185253
CREATED:20211218T210452Z
LAST-MODIFIED:20211218T210452Z
UID:487909-1645660800-1645747199@www.romancejunkies.com
SUMMARY:Kelli A. Wilkins
DESCRIPTION:
URL:https://www.romancejunkies.com/event/kelli-a-wilkins-24/
END:VEVENT
BEGIN:VEVENT
DTSTART;VALUE=DATE:20220225
DTEND;VALUE=DATE:20220226
DTSTAMP:20260424T185253
CREATED:20220222T002225Z
LAST-MODIFIED:20220222T002225Z
UID:502487-1645747200-1645833599@www.romancejunkies.com
SUMMARY:Finding Aloha
DESCRIPTION:Jen Walker
URL:https://www.romancejunkies.com/event/finding-aloha/
END:VEVENT
BEGIN:VEVENT
DTSTART;VALUE=DATE:20220228
DTEND;VALUE=DATE:20220301
DTSTAMP:20260424T185253
CREATED:20220222T002309Z
LAST-MODIFIED:20220222T002309Z
UID:502491-1646006400-1646092799@www.romancejunkies.com
SUMMARY:'Til Death Do Us Wed
DESCRIPTION:Jason Wrench
URL:https://www.romancejunkies.com/event/til-death-do-us-wed/
END:VEVENT
END:VCALENDAR