BEGIN:VCALENDAR
VERSION:2.0
PRODID:-//Romance Junkies - ECPv6.0.12//NONSGML v1.0//EN
CALSCALE:GREGORIAN
METHOD:PUBLISH
X-ORIGINAL-URL:https://www.romancejunkies.com
X-WR-CALDESC:Events for Romance Junkies
REFRESH-INTERVAL;VALUE=DURATION:PT1H
X-Robots-Tag:noindex
X-PUBLISHED-TTL:PT1H
BEGIN:VTIMEZONE
TZID:America/Denver
BEGIN:DAYLIGHT
TZOFFSETFROM:-0700
TZOFFSETTO:-0600
TZNAME:MDT
DTSTART:20220313T090000
END:DAYLIGHT
BEGIN:STANDARD
TZOFFSETFROM:-0600
TZOFFSETTO:-0700
TZNAME:MST
DTSTART:20221106T080000
END:STANDARD
END:VTIMEZONE
BEGIN:VEVENT
DTSTART;VALUE=DATE:20220902
DTEND;VALUE=DATE:20220903
DTSTAMP:20260424T075802
CREATED:20220902T011624Z
LAST-MODIFIED:20220902T011624Z
UID:616622-1662076800-1662163199@www.romancejunkies.com
SUMMARY:Pelaam
DESCRIPTION:River Hag by Pelaam
URL:https://www.romancejunkies.com/event/pelaam/
END:VEVENT
END:VCALENDAR